BEGIN:VCALENDAR
VERSION:2.0
CALSCALE:GREGORIAN
PRODID:-//Diputació de Barcelona//DibaCMS//EN
BEGIN:VEVENT
UID:2642
DTSTAMP:20260421T125745
DTSTART:20250609T160000
DTEND:20250609T160000
SUMMARY:Sessió de meditació
LOCATION:C/ del Molí, 29 Bis 08775 Torrelavit
METHOD:PUBLISH
X-WR-CALNAME:torrelavit@torrelavit.cat
X-WR-TIMEZONE:Europe/Madrid
DESCRIPTION:Sessió dirigida pel psicòleg Martí Garcia.

URI:https://www.torrelavit.cat/actualitat/agenda/2642-sessio-de-meditacio.html
CLASS:PUBLIC
END:VEVENT
END:VCALENDAR
