BEGIN:VCALENDAR
VERSION:2.0
CALSCALE:GREGORIAN
PRODID:-//Diputació de Barcelona//DibaCMS//EN
BEGIN:VEVENT
UID:3003
DTSTAMP:20260421T111734
DTSTART:20260322T100000
DTEND:20260322T140000
SUMMARY:Campanya donació de sang
LOCATION:C/ del Molí, 29 Bis 08775 Torrelavit
METHOD:PUBLISH
X-WR-CALNAME:torrelavit@torrelavit.cat
X-WR-TIMEZONE:Europe/Madrid
DESCRIPTION:
URI:https://www.torrelavit.cat/actualitat/agenda/3003-campanya-donacio-de-sang.html
CLASS:PUBLIC
END:VEVENT
END:VCALENDAR
