BEGIN:VCALENDAR
VERSION:2.0
CALSCALE:GREGORIAN
PRODID:-//Diputació de Barcelona//DibaCMS//EN
BEGIN:VEVENT
UID:3015
DTSTAMP:20260421T112259
DTSTART:20260313T210000
DTEND:20260313T210000
SUMMARY:Sopar de la dona 2026
LOCATION:C/ del Molí, 29 Bis 08775 Torrelavit
METHOD:PUBLISH
X-WR-CALNAME:torrelavit@torrelavit.cat
X-WR-TIMEZONE:Europe/Madrid
DESCRIPTION:Sopar i karoke interactiu amb la show woman Karla Ramos. Canta i balla les teves cançons preferides. Gresca i diversió garantida. Hi haurà un petit obsequi per a totes les assistents. Les inscripcions pel sopar es poden fer fins el dilluns 9 de març al Casal de Cultura.

URI:https://www.torrelavit.cat/actualitat/agenda/sopar-de-la-dona-2026.html
CLASS:PUBLIC
END:VEVENT
END:VCALENDAR
