BEGIN:VCALENDAR
VERSION:2.0
CALSCALE:GREGORIAN
PRODID:-//Diputació de Barcelona//DibaCMS//EN
BEGIN:VEVENT
UID:588
DTSTAMP:20260421T123415
DTSTART:20170420T141000
DTEND:20180420T141000
SUMMARY:Jovent! A gaudir de la Setmana Jove 2017!
LOCATION:
METHOD:PUBLISH
X-WR-CALNAME:torrelavit@torrelavit.cat
X-WR-TIMEZONE:Europe/Madrid
DESCRIPTION:Han acabat les vacances de Setmana Santa però els joves de Torrelavit encara tenen molta marxa!

URI:https://www.torrelavit.cat/actualitat/noticies/jovent-a-gaudir-de-la-setmana-jove-2017.html
CLASS:PUBLIC
END:VEVENT
END:VCALENDAR
