BEGIN:VCALENDAR
VERSION:2.0
CALSCALE:GREGORIAN
PRODID:-//Diputació de Barcelona//DibaCMS//EN
BEGIN:VEVENT
UID:612
DTSTAMP:20260424T092321
DTSTART:20170508T191000
DTEND:20180508T191000
SUMMARY:NEXES - Agenda de formació del 2n quatrimestre del 2017
LOCATION:
METHOD:PUBLISH
X-WR-CALNAME:torrelavit@torrelavit.cat
X-WR-TIMEZONE:Europe/Madrid
DESCRIPTION:Les activitats són obertes a qualsevol persona i/o empresa de Torrelavit que hi estigui interessada. Consulteu l'agenda aquí

URI:https://www.torrelavit.cat/actualitat/noticies/nexes-agenda-de-formacio-del-2n-quatrimestre-del-2017.html
CLASS:PUBLIC
END:VEVENT
END:VCALENDAR
