BEGIN:VCALENDAR
VERSION:2.0
CALSCALE:GREGORIAN
PRODID:-//Diputació de Barcelona//DibaCMS//EN
BEGIN:VEVENT
UID:787
DTSTAMP:20260421T163153
DTSTART:20180122T090000
DTEND:20200122T000000
SUMMARY:Aprovació inicial del POUM de Torrelavit
LOCATION:
METHOD:PUBLISH
X-WR-CALNAME:torrelavit@torrelavit.cat
X-WR-TIMEZONE:Europe/Madrid
DESCRIPTION:El darrer 18 de desembre de 2017, el Ple de l'Ajuntament de Torrelavit va aprovar inicialment el nou Pla d'Ordenació Urbanística Municipal (POUM) de Torrelavit.

URI:https://www.torrelavit.cat/actualitat/noticies/aprovacio-inicial-del-poum-de-torrelavit.html
CLASS:PUBLIC
END:VEVENT
END:VCALENDAR
